BEGIN:VCALENDAR
VERSION:2.0
PRODID:-//County Line Church//Events//EN
CALSCALE:GREGORIAN
METHOD:PUBLISH
BEGIN:VEVENT
UID:69d7640c052b9bc3dabff723c99a1a1a@countylinechurch.org
DTSTAMP:20260424T075446Z
DTSTART:20260503T093000Z
DTEND:20260503T120000Z
SUMMARY:Pray for Services
DESCRIPTION:We believe that having dedicated prayer during our weekly worship service
 s is vital. We invite you to review the available time slots below and s
 ign up for one that works for you.By signing up\, you are committing to 
 pray during your selected 15-minute time slot. You’ll receive an email
  during the week of your scheduled time with specific prayer requests fo
 r that service.You can pray wherever you feel most comfortable—at the 
 church\, at home\, or even on your way to the service.If you have any qu
 estions\, please feel free to reach out to Sheila at sstetzel@countyline
 church.org.Thank you for being a part of this important ministry!
LOCATION:Main\, 7716 North County Line Road E Auburn\, IN 46706
URL:https://countylinechurch.churchcenter.com/registrations/events/3593878/reservations/new
STATUS:CONFIRMED
END:VEVENT
BEGIN:VEVENT
UID:92c9c0642c8708d717bf866edd4b8d54@countylinechurch.org
DTSTAMP:20260424T075446Z
DTSTART:20260510T093000Z
DTEND:20260510T120000Z
SUMMARY:Pray for Services
DESCRIPTION:We believe that having dedicated prayer during our weekly worship service
 s is vital. We invite you to review the available time slots below and s
 ign up for one that works for you.By signing up\, you are committing to 
 pray during your selected 15-minute time slot. You’ll receive an email
  during the week of your scheduled time with specific prayer requests fo
 r that service.You can pray wherever you feel most comfortable—at the 
 church\, at home\, or even on your way to the service.If you have any qu
 estions\, please feel free to reach out to Sheila at sstetzel@countyline
 church.org.Thank you for being a part of this important ministry!
LOCATION:Main\, 7716 North County Line Road E Auburn\, IN 46706
URL:https://countylinechurch.churchcenter.com/registrations/events/3593878/reservations/new
STATUS:CONFIRMED
END:VEVENT
BEGIN:VEVENT
UID:933e45c340bee756c13b40b447829f4f@countylinechurch.org
DTSTAMP:20260424T075446Z
DTSTART:20260517T093000Z
DTEND:20260517T120000Z
SUMMARY:Pray for Services
DESCRIPTION:We believe that having dedicated prayer during our weekly worship service
 s is vital. We invite you to review the available time slots below and s
 ign up for one that works for you.By signing up\, you are committing to 
 pray during your selected 15-minute time slot. You’ll receive an email
  during the week of your scheduled time with specific prayer requests fo
 r that service.You can pray wherever you feel most comfortable—at the 
 church\, at home\, or even on your way to the service.If you have any qu
 estions\, please feel free to reach out to Sheila at sstetzel@countyline
 church.org.Thank you for being a part of this important ministry!
LOCATION:Main\, 7716 North County Line Road E Auburn\, IN 46706
URL:https://countylinechurch.churchcenter.com/registrations/events/3593878/reservations/new
STATUS:CONFIRMED
END:VEVENT
BEGIN:VEVENT
UID:112af4cb5ef561dc37c918908a15b890@countylinechurch.org
DTSTAMP:20260424T075446Z
DTSTART:20260524T093000Z
DTEND:20260524T120000Z
SUMMARY:Pray for Services
DESCRIPTION:We believe that having dedicated prayer during our weekly worship service
 s is vital. We invite you to review the available time slots below and s
 ign up for one that works for you.By signing up\, you are committing to 
 pray during your selected 15-minute time slot. You’ll receive an email
  during the week of your scheduled time with specific prayer requests fo
 r that service.You can pray wherever you feel most comfortable—at the 
 church\, at home\, or even on your way to the service.If you have any qu
 estions\, please feel free to reach out to Sheila at sstetzel@countyline
 church.org.Thank you for being a part of this important ministry!
LOCATION:Main\, 7716 North County Line Road E Auburn\, IN 46706
URL:https://countylinechurch.churchcenter.com/registrations/events/3593878/reservations/new
STATUS:CONFIRMED
END:VEVENT
BEGIN:VEVENT
UID:c7a0613ce019b228e34eb3d626da7688@countylinechurch.org
DTSTAMP:20260424T075446Z
DTSTART:20260531T093000Z
DTEND:20260531T120000Z
SUMMARY:Pray for Services
DESCRIPTION:We believe that having dedicated prayer during our weekly worship service
 s is vital. We invite you to review the available time slots below and s
 ign up for one that works for you.By signing up\, you are committing to 
 pray during your selected 15-minute time slot. You’ll receive an email
  during the week of your scheduled time with specific prayer requests fo
 r that service.You can pray wherever you feel most comfortable—at the 
 church\, at home\, or even on your way to the service.If you have any qu
 estions\, please feel free to reach out to Sheila at sstetzel@countyline
 church.org.Thank you for being a part of this important ministry!
LOCATION:Main\, 7716 North County Line Road E Auburn\, IN 46706
URL:https://countylinechurch.churchcenter.com/registrations/events/3593878/reservations/new
STATUS:CONFIRMED
END:VEVENT
BEGIN:VEVENT
UID:46a6796a566b74e28bf3d8c9dd83705a@countylinechurch.org
DTSTAMP:20260424T075446Z
DTSTART:20260607T093000Z
DTEND:20260607T120000Z
SUMMARY:Pray for Services
DESCRIPTION:We believe that having dedicated prayer during our weekly worship service
 s is vital. We invite you to review the available time slots below and s
 ign up for one that works for you.By signing up\, you are committing to 
 pray during your selected 15-minute time slot. You’ll receive an email
  during the week of your scheduled time with specific prayer requests fo
 r that service.You can pray wherever you feel most comfortable—at the 
 church\, at home\, or even on your way to the service.If you have any qu
 estions\, please feel free to reach out to Sheila at sstetzel@countyline
 church.org.Thank you for being a part of this important ministry!
LOCATION:Main\, 7716 North County Line Road E Auburn\, IN 46706
URL:https://countylinechurch.churchcenter.com/registrations/events/3593878/reservations/new
STATUS:CONFIRMED
END:VEVENT
BEGIN:VEVENT
UID:da6405eb29923258d7e5b1eb793fa506@countylinechurch.org
DTSTAMP:20260424T075446Z
DTSTART:20260614T093000Z
DTEND:20260614T120000Z
SUMMARY:Pray for Services
DESCRIPTION:We believe that having dedicated prayer during our weekly worship service
 s is vital. We invite you to review the available time slots below and s
 ign up for one that works for you.By signing up\, you are committing to 
 pray during your selected 15-minute time slot. You’ll receive an email
  during the week of your scheduled time with specific prayer requests fo
 r that service.You can pray wherever you feel most comfortable—at the 
 church\, at home\, or even on your way to the service.If you have any qu
 estions\, please feel free to reach out to Sheila at sstetzel@countyline
 church.org.Thank you for being a part of this important ministry!
LOCATION:Main\, 7716 North County Line Road E Auburn\, IN 46706
URL:https://countylinechurch.churchcenter.com/registrations/events/3593878/reservations/new
STATUS:CONFIRMED
END:VEVENT
BEGIN:VEVENT
UID:fe606578dd91e65356d308c65b91419c@countylinechurch.org
DTSTAMP:20260424T075446Z
DTSTART:20260621T093000Z
DTEND:20260628T120000Z
SUMMARY:Pray for Services
DESCRIPTION:We believe that having dedicated prayer during our weekly worship service
 s is vital. We invite you to review the available time slots below and s
 ign up for one that works for you.By signing up\, you are committing to 
 pray during your selected 15-minute time slot. You’ll receive an email
  during the week of your scheduled time with specific prayer requests fo
 r that service.You can pray wherever you feel most comfortable—at the 
 church\, at home\, or even on your way to the service.If you have any qu
 estions\, please feel free to reach out to Sheila at sstetzel@countyline
 church.org.Thank you for being a part of this important ministry!
LOCATION:Main\, 7716 North County Line Road E Auburn\, IN 46706
URL:https://countylinechurch.churchcenter.com/registrations/events/3593878/reservations/new
STATUS:CONFIRMED
END:VEVENT
BEGIN:VEVENT
UID:754a0e73f7591af60b71ef1ef2971b99@countylinechurch.org
DTSTAMP:20260424T075446Z
DTSTART:20260628T093000Z
DTEND:20260628T120000Z
SUMMARY:Pray for Services
DESCRIPTION:We believe that having dedicated prayer during our weekly worship service
 s is vital. We invite you to review the available time slots below and s
 ign up for one that works for you.By signing up\, you are committing to 
 pray during your selected 15-minute time slot. You’ll receive an email
  during the week of your scheduled time with specific prayer requests fo
 r that service.You can pray wherever you feel most comfortable—at the 
 church\, at home\, or even on your way to the service.If you have any qu
 estions\, please feel free to reach out to Sheila at sstetzel@countyline
 church.org.Thank you for being a part of this important ministry!
LOCATION:Main\, 7716 North County Line Road E Auburn\, IN 46706
URL:https://countylinechurch.churchcenter.com/registrations/events/3593878/reservations/new
STATUS:CONFIRMED
END:VEVENT
BEGIN:VEVENT
UID:ff918af6347dceba2cb1aede1edf7f33@countylinechurch.org
DTSTAMP:20260424T075446Z
DTSTART:20260705T093000Z
DTEND:20260705T120000Z
SUMMARY:Pray for Services
DESCRIPTION:We believe that having dedicated prayer during our weekly worship service
 s is vital. We invite you to review the available time slots below and s
 ign up for one that works for you.By signing up\, you are committing to 
 pray during your selected 15-minute time slot. You’ll receive an email
  during the week of your scheduled time with specific prayer requests fo
 r that service.You can pray wherever you feel most comfortable—at the 
 church\, at home\, or even on your way to the service.If you have any qu
 estions\, please feel free to reach out to Sheila at sstetzel@countyline
 church.org.Thank you for being a part of this important ministry!
LOCATION:Main\, 7716 North County Line Road E Auburn\, IN 46706
URL:https://countylinechurch.churchcenter.com/registrations/events/3593878/reservations/new
STATUS:CONFIRMED
END:VEVENT
BEGIN:VEVENT
UID:f4216e662b4b016b19041eb678b77e8f@countylinechurch.org
DTSTAMP:20260424T075446Z
DTSTART:20260712T093000Z
DTEND:20260712T120000Z
SUMMARY:Pray for Services
DESCRIPTION:We believe that having dedicated prayer during our weekly worship service
 s is vital. We invite you to review the available time slots below and s
 ign up for one that works for you.By signing up\, you are committing to 
 pray during your selected 15-minute time slot. You’ll receive an email
  during the week of your scheduled time with specific prayer requests fo
 r that service.You can pray wherever you feel most comfortable—at the 
 church\, at home\, or even on your way to the service.If you have any qu
 estions\, please feel free to reach out to Sheila at sstetzel@countyline
 church.org.Thank you for being a part of this important ministry!
LOCATION:Main\, 7716 North County Line Road E Auburn\, IN 46706
URL:https://countylinechurch.churchcenter.com/registrations/events/3593878/reservations/new
STATUS:CONFIRMED
END:VEVENT
BEGIN:VEVENT
UID:b7d280b8de81cd7a4065873c113e1a74@countylinechurch.org
DTSTAMP:20260424T075446Z
DTSTART:20260719T093000Z
DTEND:20260719T120000Z
SUMMARY:Pray for Services
DESCRIPTION:We believe that having dedicated prayer during our weekly worship service
 s is vital. We invite you to review the available time slots below and s
 ign up for one that works for you.By signing up\, you are committing to 
 pray during your selected 15-minute time slot. You’ll receive an email
  during the week of your scheduled time with specific prayer requests fo
 r that service.You can pray wherever you feel most comfortable—at the 
 church\, at home\, or even on your way to the service.If you have any qu
 estions\, please feel free to reach out to Sheila at sstetzel@countyline
 church.org.Thank you for being a part of this important ministry!
LOCATION:Main\, 7716 North County Line Road E Auburn\, IN 46706
URL:https://countylinechurch.churchcenter.com/registrations/events/3593878/reservations/new
STATUS:CONFIRMED
END:VEVENT
END:VCALENDAR
