BEGIN:VCALENDAR
VERSION:2.0
PRODID:-//County Line Church//Events//EN
CALSCALE:GREGORIAN
METHOD:PUBLISH
BEGIN:VEVENT
UID:570c38e529621a79a82d990488393a7c@countylinechurch.org
DTSTAMP:20260424T075347Z
DTSTART:20260603T183000Z
DTEND:20260603T203000Z
SUMMARY:Women's Night at the Flower Field
DESCRIPTION:Come for an evening to connect with County Line women\, to be encouraged 
 in your faith journey\, and to learn how to assemble a bouquet of season
 al flowers.&nbsp\; Dessert and light refreshments will be served.The cos
 t for this event is $45 per person.&nbsp\;Contact Misty Gillian at mgill
 ian@countylinechurch.org for further questions. &nbsp\;
LOCATION:Main\, 7716 North County Line Road E Auburn\, IN 46706
URL:https://countylinechurch.churchcenter.com/registrations/events/3584582/reservations/new
STATUS:CONFIRMED
END:VEVENT
END:VCALENDAR
