BEGIN:VCALENDAR
VERSION:2.0
PRODID:-//County Line Church//Events//EN
CALSCALE:GREGORIAN
METHOD:PUBLISH
BEGIN:VEVENT
UID:e14be49f054cb2c7f8ff757ed20eeb3c@countylinechurch.org
DTSTAMP:20260424T081934Z
DTSTART:20260510T090000Z
DTEND:20260510T120000Z
SUMMARY:Graduation Sunday
DESCRIPTION:Celebrate Graduation Sunday at County LineHats off to Grads!This Graduati
 on Sunday\, we’re celebrating the incredible milestone of graduation a
 nd the many hats our students have worn to get here\, student\, athlete\
 , leader\, friend\, and more. Each season has shaped them into who they 
 are today\, and we can’t wait to honor that journey.Join us as we reco
 gnize and celebrate our graduates and all that God has done in and throu
 gh their lives. Whether you’re graduating\, supporting a graduate\, or
  cheering on the next generation\, this will be a meaningful and inspiri
 ng Sunday for everyone.You can expect a powerful service\, a moment to h
 onor our graduates\, and encouragement as they step into what’s next.S
 unday\, May 10Main Campus | 9:30 &amp\; 11:00 AMAuburn Campus | 10:00 AM
 Garrett Campus | 10:00 AMLet’s celebrate this milestone and say hats o
 ff to the grads.
LOCATION:Main\, 7716 North County Line Road E Auburn\, IN 46706
URL:https://countylinechurch.churchcenter.com/registrations/events/3563835/reservations/new
STATUS:CONFIRMED
END:VEVENT
END:VCALENDAR
